BEGIN:VCALENDAR
VERSION:2.0
PRODID:-//Holy Ghost - ECPv6.15.14//NONSGML v1.0//EN
CALSCALE:GREGORIAN
METHOD:PUBLISH
X-ORIGINAL-URL:https://holyghost.be
X-WR-CALDESC:Évènements pour Holy Ghost
REFRESH-INTERVAL;VALUE=DURATION:PT1H
X-Robots-Tag:noindex
X-PUBLISHED-TTL:PT1H
BEGIN:VTIMEZONE
TZID:Europe/Paris
BEGIN:DAYLIGHT
TZOFFSETFROM:+0100
TZOFFSETTO:+0200
TZNAME:CEST
DTSTART:20250330T010000
END:DAYLIGHT
BEGIN:STANDARD
TZOFFSETFROM:+0200
TZOFFSETTO:+0100
TZNAME:CET
DTSTART:20251026T010000
END:STANDARD
BEGIN:DAYLIGHT
TZOFFSETFROM:+0100
TZOFFSETTO:+0200
TZNAME:CEST
DTSTART:20260329T010000
END:DAYLIGHT
BEGIN:STANDARD
TZOFFSETFROM:+0200
TZOFFSETTO:+0100
TZNAME:CET
DTSTART:20261025T010000
END:STANDARD
BEGIN:DAYLIGHT
TZOFFSETFROM:+0100
TZOFFSETTO:+0200
TZNAME:CEST
DTSTART:20270328T010000
END:DAYLIGHT
BEGIN:STANDARD
TZOFFSETFROM:+0200
TZOFFSETTO:+0100
TZNAME:CET
DTSTART:20271031T010000
END:STANDARD
END:VTIMEZONE
BEGIN:VEVENT
DTSTART;TZID=Europe/Paris:20260509T200000
DTEND;TZID=Europe/Paris:20260509T220000
DTSTAMP:20260421T120824
CREATED:20260321T145828Z
LAST-MODIFIED:20260321T145828Z
UID:62151-1778356800-1778364000@holyghost.be
SUMMARY:Café Louis Rekkem
DESCRIPTION:
URL:https://holyghost.be/concert/cafe-louis-rekkem/
LOCATION:Café Louis\, Schelpenstraat 108\, Rekkem\, Belgium
CATEGORIES:Concert
END:VEVENT
END:VCALENDAR